Workbook

Sheet Rekapitulácia
A2: Rekapitulácia rozpočtu | F2: Sadzby DPH
A3: Stavba Lesná cesta ROZTOKY - zvážnica | F3: A | G3: B
F4: 0.2 | G4: 0
A6: Názov objektu | B6: ZRN | C6: VRN | D6: HZS | E6: Kompl.čin. | F6: Ostatné náklady stavby | G6: Cena
A7: Lesná cesta ROZTOKY - zvážnica | B7: =Roztoky_Výkaz_výmer!I38-Rekapitulácia!D7-Rekapitulácia!F7 -> 0 | C7: ='Kryci_list 1085'!J26 -> 0 | E7: ='Kryci_list 1085'!J17 -> 0 | G7: =B7+C7+D7+E7+F7 -> 0 | K7: =Roztoky_Výkaz_výmer!K38 -> 0 | Q7: 30.126
A8: Celkom bez DPH | B8: =SUM(B7:B7) -> 0 | C8: =SUM(C7:C7) -> 0 | D8: =SUM(D7:D7) -> 0 | E8: =SUM(E7:E7) -> 0 | F8: =SUM(F7:F7) -> 0 | G8: =SUM(G7:G7)-SUM(Z7:Z7) -> 0
A9: DPH 20% z | B9: =G8-SUM(Rekapitulácia!K7:'Rekapitulácia'!K7)*1 -> 0 | G9: =ROUND(((ROUND(B9,2)*20)/100),2)*1 -> 0
A10: DPH 0% z | B10: =(G8-B9) -> 0 | G10: =ROUND(((ROUND(B10,2)*0)/100),2) -> 0
A11: Celkom v EUR | G11: =SUM(G8:G10) -> 0

Sheet Krycí list stavby
F1: Krycí list stavby | W1: 30.126
B2: Stavba Lesná cesta ROZTOKY - zvážnica
I3: Miesto: Malá Lodina
I4: Ks: 2111 Cestné komunikácie
B5: Zákazka: | F5: Spracoval: Ing. Böhmer | I5: Dňa | J5: 14. 8. 2024
B6: Odberateľ: Mestské Lesy Košice a.s.
B7: IČO: 31 672 981 | G7: DIČ:
B8: Projektant: VIA OPTIMA, spol. s r.o.
B9: IČO: 44 314 132 | G9: DIČ: 2022661597
B10: Dodávateľ: ...
B11: IČO: | G11: DIČ:
B14: A | D14: Montáž | E14: Materiál | F14: ZRN spolu | G14: B
B15: 1 | C15: HSV | D15: ='Kryci_list 1085'!D15 -> 0 | E15: ='Kryci_list 1085'!E15 -> 0 | F15: ='Kryci_list 1085'!F15 -> 0 | G15: 7 | H15: Ostatné náklady stavby | J15: ='Kryci_list 1085'!J15 -> 0
B16: 2 | C16: PSV | D16: ='Kryci_list 1085'!D16 -> 0 | E16: ='Kryci_list 1085'!E16 -> 0 | F16: ='Kryci_list 1085'!F16 -> 0
B17: 3 | C17: MONT | D17: ='Kryci_list 1085'!D17 -> 0 | E17: ='Kryci_list 1085'!E17 -> 0 | F17: ='Kryci_list 1085'!F17 -> 0 | G17: 8 | H17: Kompletačná činnosť | J17: =Rekapitulácia!E8 -> 0
B18: 4 | C18: OST | D18: ='Kryci_list 1085'!D18 -> 0 | E18: ='Kryci_list 1085'!E18 -> 0 | F18: ='Kryci_list 1085'!F18 -> 0 | G18: 9 | H18: HZS | J18: =Rekapitulácia!D8 -> 0
B19: 5 | C19: VN | D19: ='Kryci_list 1085'!D19 -> 0 | E19: ='Kryci_list 1085'!E19 -> 0 | F19: ='Kryci_list 1085'!F19 -> 0
B20: 6 | C20: Spolu | F20: =SUM(F15:F19) -> 0 | G20: 10 | H20: Spolu | J20: =SUM(J16:J19) -> 0
B21: C | C21: VRN | G21: D | H21: VRN
B22: 11 | C22: Zariadenie staveniska | F22: ='Kryci_list 1085'!F22 -> 0 | G22: 16 | H22: Sťažené podmienky dopravy | J22: ='Kryci_list 1085'!J22 -> 0
B23: 12 | C23: Sťažené výrobné podmienky | F23: ='Kryci_list 1085'!F23 -> 0 | G23: 17 | H23: Horské oblasti | J23: ='Kryci_list 1085'!J23 -> 0
B24: 13 | C24: Prevádzkové vplyvy | F24: ='Kryci_list 1085'!F24 -> 0 | G24: 18 | H24: Mimostavenisková doprava | J24: ='Kryci_list 1085'!J24 -> 0
B25: 14 | G25: 19
B26: 15 | G26: 20 | H26: Spolu | J26: =SUM(J22:J25)+SUM(F22:F25) -> 0
C27: Projektant,rozpočtár | G27: E | H27: Celkové náklady
G28: 21 | H28: Súčet riadkov 6,10,20 | J28: =F20+J20+F26+J26 -> 0
G29: 22 | H29: DPH 20% z | I29: =Rekapitulácia!B9 -> 0 | J29: =ROUND(((ROUND(I29,2)*20)/100),2)*1 -> 0
G30: 23 | H30: DPH 0% z | I30: =Rekapitulácia!B10 -> 0 | J30: =ROUND(((ROUND(I30,2)*0)/100),2) -> 0
G31: 24 | H31: Spolu v EUR | J31: =SUM(J28:J30) -> 0
G32: F
D33: Odberateľ | H33: Dodávateľ

Sheet Kryci_list 1085
F1: Krycí list rozpočtu | W1: 30.126
B2: Stavba Lesná cesta ROZTOKY - zvážnica
B3: Objekt Lesná cesta ROZTOKY - zvážnica | I3: Miesto: Malá Lodina
I4: Ks: 2111 Cestné komunikácie
B5: Zákazka: | F5: Spracoval: Ing. Böhmer | I5: Dňa | J5: 14. 8. 2024
B6: Odberateľ: Mestské Lesy Košice a.s.
B7: IČO: 31 672 981 | G7: DIČ:
B8: Projektant: VIA OPTIMA, spol. s r.o.
B9: IČO: 44 314 132 | G9: DIČ: 2022661597
B10: Dodávateľ: ...
B11: IČO: | G11: DIČ:
B14: A | C14: ZRN | D14: Montáž | E14: Materiál | F14: ZRN spolu | G14: B
B15: 1 | C15: HSV | D15: ='Rekap 1085'!B14 -> 0 | E15: ='Rekap 1085'!C14 -> 0 | F15: ='Rekap 1085'!D14 -> 0 | G15: 7 | H15: Ostatné náklady | J15: 0
B16: 2 | C16: PSV
B17: 3 | C17: MONT | G17: 8 | H17: Kompletačná činnos | J17: =Roztoky_Výkaz_výmer!Z38 -> 0
B18: 4 | C18: OST | G18: 9 | H18: HZS | J18: 0
B19: 5 | C19: VN
B20: 6 | C20: Spolu | F20: =SUM(F15:F19) -> 0 | G20: 10 | H20: Spolu | J20: =SUM(J15:J19) -> 0
B21: C | C21: VRN | G21: D | H21: VRN
B22: 11 | C22: Zariadenie staveniska | E22: 0% z [H+P+M] | F22: =((F15*U22*0)+(F16*V22*0)+(F17*W22*0))/100 -> 0 | G22: 16 | H22: Sťažené podmienky dopravy | I22: 0% z [H+P+M] | J22: =((F15*X22*0)+(F16*Y22*0)+(F17*Z22*0))/100 -> 0 | U22: 1 | V22: 1 | W22: 1 | X22: 1 | Y22: 1 | Z22: 1
B23: 12 | C23: Sťažené výrobné podmienky | E23: 0% z [H+P] | F23: =((F15*U23*0)+(F16*V23*0)+(F17*W23*0))/100 -> 0 | G23: 17 | H23: Horské oblasti | I23: 0% z [H+P+M] | J23: =((F15*X23*0)+(F16*Y23*0)+(F17*Z23*0))/100 -> 0 | U23: 1 | V23: 1 | W23: 0 | X23: 1 | Y23: 1 | Z23: 1
B24: 13 | C24: Prevádzkové vplyvy | E24: 0% z [H+P+M] | F24: =((F15*U24*0)+(F16*V24*0)+(F17*W24*0))/100 -> 0 | G24: 18 | H24: Mimostavenisková doprava | I24: 0% z [H+P] | J24: =((F15*X24*0)+(F16*Y24*0)+(F17*Z24*0))/100 -> 0 | U24: 1 | V24: 1 | W24: 1 | X24: 1 | Y24: 1 | Z24: 0
B25: 14 | G25: 19
B26: 15 | G26: 20 | H26: Spolu | J26: =SUM(J22:J25)+SUM(F22:F25) -> 0
C27: Projektant,rozpočtár | G27: E | H27: Celkové náklady
G28: 21 | H28: Súčet riadkov 6,10,20 | J28: =F20+J20+F26+J26 -> 0
G29: 22 | H29: DPH 20% z | I29: =J28-SUM(Roztoky_Výkaz_výmer!K9:'Roztoky_Výkaz_výmer'!K37) -> 0 | J29: =ROUND(((ROUND(I29,2)*20)*1/100),2) -> 0
G30: 23 | H30: DPH 0% z | I30: =SUM(Roztoky_Výkaz_výmer!K9:'Roztoky_Výkaz_výmer'!K37) -> 0 | J30: =ROUND(((ROUND(I30,2)*0)/100),2) -> 0
G31: 24 | H31: Spolu v EUR | J31: =SUM(J28:J30) -> 0
G32: F
D33: Odberateľ | G33: 26 | H33: Dodávateľ

Sheet Rekap 1085
A1: Odberateľ: Mestské Lesy Košice a.s. | E1: Spracoval: Ing. Böhmer | W1: 30.126
A2: Projektant: VIA OPTIMA, spol. s r.o. | E2: Ks: 2111 Cestné komunikácie
A3: Dodávateľ: ... | E3: Dátum: 14. 8. 2024
A4: Stavba Lesná cesta ROZTOKY - zvážnica
A5: Objekt Lesná cesta ROZTOKY - zvážnica
A8: Prehľad rozpočtových nákladov
A9: Oddiel | B9: Montáž | C9: Materiál | D9: Spolu | E9: Hmotnosť (T) | F9: Sutina (T)
A10: Práce HSV
A11: ZEMNÉ PRÁCE | B11: =Roztoky_Výkaz_výmer!L27 -> 0 | C11: =Roztoky_Výkaz_výmer!M27 -> 0 | D11: =Roztoky_Výkaz_výmer!I27 -> 0 | E11: =Roztoky_Výkaz_výmer!S27 -> 4.28 | F11: =Roztoky_Výkaz_výmer!V27 -> 0
A12: VODOROVNÉ KONŠTRUKCIE | B12: =Roztoky_Výkaz_výmer!L31 -> 0 | C12: =Roztoky_Výkaz_výmer!M31 -> 0 | D12: =Roztoky_Výkaz_výmer!I31 -> 0 | E12: =Roztoky_Výkaz_výmer!S31 -> 75.03 | F12: =Roztoky_Výkaz_výmer!V31 -> 0
A13: PRESUNY HMÔT | B13: =Roztoky_Výkaz_výmer!L35 -> 0 | C13: =Roztoky_Výkaz_výmer!M35 -> 0 | D13: =Roztoky_Výkaz_výmer!I35 -> 0 | E13: =Roztoky_Výkaz_výmer!S35 -> 0 | F13: =Roztoky_Výkaz_výmer!V35 -> 0
A14: Práce HSV | B14: =Roztoky_Výkaz_výmer!L37 -> 0 | C14: =Roztoky_Výkaz_výmer!M37 -> 0 | D14: =Roztoky_Výkaz_výmer!I37 -> 0 | E14: =Roztoky_Výkaz_výmer!S37 -> 79.31 | F14: =Roztoky_Výkaz_výmer!V37 -> 0
A16: Celkom v EUR | B16: =Roztoky_Výkaz_výmer!L38 -> 0 | C16: =Roztoky_Výkaz_výmer!M38 -> 0 | D16: =Roztoky_Výkaz_výmer!I38 -> 0 | E16: =Roztoky_Výkaz_výmer!S38 -> 79.31 | F16: =Roztoky_Výkaz_výmer!V38 -> 0

Sheet Roztoky_Výkaz_výmer
C1: Odberateľ: Mestské Lesy Košice a.s. | I1: Spracoval: | W1: 30.126
C2: Projektant: VIA OPTIMA, spol. s r.o. | I2: Ks: | P2: 2111 Cestné komunikácie
C3: Dodávateľ: | I3: Dátum:
C4: Zákazka Lesná cesta ROZTOKY - zvážnica
C5: Objekt Lesná cesta ROZTOKY - zvážnica
C7: Prehľad rozpočtových nákladov
A8: Por.č. | B8: Cenník | C8: Kód položky | D8: Názov | E8: Mj | F8: Množstvo | G8: Montáž | H8: Materiál | I8: Cena celkom | P8: Hmotnosť/Mj | S8: Hmotnosť | V8: Sutina
D9: Práce HSV
C10: 1 | D10: ZEMNÉ PRÁCE
A11: 1 | B11: 1/A 1 | C11: 112201101 | D11: Odstránenie pňov na vzdial. 50 m priemeru nad 100 do 300 mm | E11: KUS | F11: 47 | I11: =ROUND(F11*(G11+H11),2) -> 0 | J11: =ROUND(F11*(N11),2) -> 0 | K11: =ROUND(F11*(O11),2) -> 0 | L11: =ROUND(F11*(G11),2) -> 0 | M11: =ROUND(F11*(H11),2) -> 0 | N11: 0 | P11: 1e-05 | R11: 1e-05 | S11: =ROUND(F11*(P11),3) -> 0 | V11: =ROUND(F11*(X11),3) -> 0 | X11: 0 | Z11: 0
A12: 2 | B12: 1/A 1 | C12: 112201102 | D12: Odstránenie pňov na vzdial. 50 m priemeru nad 300 do 500 mm | E12: KUS | F12: 354 | I12: =ROUND(F12*(G12+H12),2) -> 0 | J12: =ROUND(F12*(N12),2) -> 0 | K12: =ROUND(F12*(O12),2) -> 0 | L12: =ROUND(F12*(G12),2) -> 0 | M12: =ROUND(F12*(H12),2) -> 0 | N12: 0 | P12: 1e-05 | R12: 1e-05 | S12: =ROUND(F12*(P12),3) -> 0.004 | V12: =ROUND(F12*(X12),3) -> 0 | X12: 0 | Z12: 0
A13: 3 | B13: 1/A 1 | C13: 112201103 | D13: Odstránenie pňov na vzdial. 50 m priemeru nad 500 do 700 mm | E13: KUS | F13: 63 | I13: =ROUND(F13*(G13+H13),2) -> 0 | J13: =ROUND(F13*(N13),2) -> 0 | K13: =ROUND(F13*(O13),2) -> 0 | L13: =ROUND(F13*(G13),2) -> 0 | M13: =ROUND(F13*(H13),2) -> 0 | N13: 0 | P13: 3e-05 | R13: 3e-05 | S13: =ROUND(F13*(P13),3) -> 0.002 | V13: =ROUND(F13*(X13),3) -> 0 | X13: 0 | Z13: 0
A14: 4 | B14: 1/A 1 | C14: 112201104 | D14: Odstránenie pňov na vzdial. 50 m priemeru nad 700 do 900 mm | E14: KUS | F14: 13 | I14: =ROUND(F14*(G14+H14),2) -> 0 | J14: =ROUND(F14*(N14),2) -> 0 | K14: =ROUND(F14*(O14),2) -> 0 | L14: =ROUND(F14*(G14),2) -> 0 | M14: =ROUND(F14*(H14),2) -> 0 | N14: 0 | P14: 3e-05 | R14: 3e-05 | S14: =ROUND(F14*(P14),3) -> 0 | V14: =ROUND(F14*(X14),3) -> 0 | X14: 0 | Z14: 0
A15: 5 | B15: 1/A 1 | C15: 171101103 | D15: Uloženie sypaniny do násypu súdržnej horniny s mierou zhutnenia nad 96 do 100 % podľa Proctor-Standard | E15: m3 | F15: 1559.08 | I15: =ROUND(F15*(G15+H15),2) -> 0 | J15: =ROUND(F15*(N15),2) -> 0 | K15: =ROUND(F15*(O15),2) -> 0 | L15: =ROUND(F15*(G15),2) -> 0 | M15: =ROUND(F15*(H15),2) -> 0 | N15: 0 | P15: 0 | R15: 0 | S15: =ROUND(F15*(P15),3) -> 0 | V15: =ROUND(F15*(X15),3) -> 0 | X15: 0 | Z15: 0
A16: 6 | B16: 1/A 1 | C16: 171201101 | D16: Uloženie sypaniny do násypov s rozprestretím sypaniny vo vrstvách a s hrubým urovnaním nezhutnených | E16: M3 | F16: 2071.43 | I16: =ROUND(F16*(G16+H16),2) -> 0 | J16: =ROUND(F16*(N16),2) -> 0 | K16: =ROUND(F16*(O16),2) -> 0 | L16: =ROUND(F16*(G16),2) -> 0 | M16: =ROUND(F16*(H16),2) -> 0 | N16: 0 | P16: 0 | R16: 0 | S16: =ROUND(F16*(P16),3) -> 0 | V16: =ROUND(F16*(X16),3) -> 0 | X16: 0 | Z16: 0
A17: 7 | B17: 1/A 1 | C17: 181101102 | D17: Úprava pláne v zárezoch v hornine 1-4 so zhutnením | E17: M2 | F17: 4721.6 | I17: =ROUND(F17*(G17+H17),2) -> 0 | J17: =ROUND(F17*(N17),2) -> 0 | K17: =ROUND(F17*(O17),2) -> 0 | L17: =ROUND(F17*(G17),2) -> 0 | M17: =ROUND(F17*(H17),2) -> 0 | N17: 0 | P17: 0 | R17: 0 | S17: =ROUND(F17*(P17),3) -> 0 | V17: =ROUND(F17*(X17),3) -> 0 | X17: 0 | Z17: 0
A18: 8 | B18: 1/A 1 | C18: 181101104 | D18: Úprava pláne v zárezoch so zhutnením v hornine triedy 5 | E18: m2 | F18: 1180.4 | I18: =ROUND(F18*(G18+H18),2) -> 0 | J18: =ROUND(F18*(N18),2) -> 0 | K18: =ROUND(F18*(O18),2) -> 0 | L18: =ROUND(F18*(G18),2) -> 0 | M18: =ROUND(F18*(H18),2) -> 0 | N18: 0 | P18: 0 | R18: 0 | S18: =ROUND(F18*(P18),3) -> 0 | V18: =ROUND(F18*(X18),3) -> 0 | X18: 0 | Z18: 0
A19: 9 | B19: 1/A 1 | C19: 182101101 | D19: Svahovanie trvalých svahov v zárezoch v hornine triedy 1-4 | E19: M2 | F19: 3155.504 | I19: =ROUND(F19*(G19+H19),2) -> 0 | J19: =ROUND(F19*(N19),2) -> 0 | K19: =ROUND(F19*(O19),2) -> 0 | L19: =ROUND(F19*(G19),2) -> 0 | M19: =ROUND(F19*(H19),2) -> 0 | N19: 0 | P19: 0 | R19: 0 | S19: =ROUND(F19*(P19),3) -> 0 | V19: =ROUND(F19*(X19),3) -> 0 | X19: 0 | Z19: 0
A20: 10 | B20: 1/A 1 | C20: 182101102 | D20: Svahovanie svahov v zárezoch v hornine triedy 5 | E20: m2 | F20: 788.876 | I20: =ROUND(F20*(G20+H20),2) -> 0 | J20: =ROUND(F20*(N20),2) -> 0 | K20: =ROUND(F20*(O20),2) -> 0 | L20: =ROUND(F20*(G20),2) -> 0 | M20: =ROUND(F20*(H20),2) -> 0 | N20: 0 | P20: 0 | R20: 0 | S20: =ROUND(F20*(P20),3) -> 0 | V20: =ROUND(F20*(X20),3) -> 0 | X20: 0 | Z20: 0
A21: 11 | B21: 1/A 1 | C21: 182201101 | D21: Svahovanie trvalých svahov v násype | E21: M2 | F21: 4783.25 | I21: =ROUND(F21*(G21+H21),2) -> 0 | J21: =ROUND(F21*(N21),2) -> 0 | K21: =ROUND(F21*(O21),2) -> 0 | L21: =ROUND(F21*(G21),2) -> 0 | M21: =ROUND(F21*(H21),2) -> 0 | N21: 0 | P21: 0 | R21: 0 | S21: =ROUND(F21*(P21),3) -> 0 | V21: =ROUND(F21*(X21),3) -> 0 | X21: 0 | Z21: 0
A22: 12 | B22: 1/A 2 | C22: 122202203 | D22: Odkopávky a prekopávky pre cesty od 1000 m3 do 10 000 m3 v hornine triedy 3 | E22: m3 | F22: 1815.25 | I22: =ROUND(F22*(G22+H22),2) -> 0 | J22: =ROUND(F22*(N22),2) -> 0 | K22: =ROUND(F22*(O22),2) -> 0 | L22: =ROUND(F22*(G22),2) -> 0 | M22: =ROUND(F22*(H22),2) -> 0 | N22: 0 | P22: 0 | R22: 0 | S22: =ROUND(F22*(P22),3) -> 0 | V22: =ROUND(F22*(X22),3) -> 0 | X22: 0 | Z22: 0
... A26: 16 | B26: 1/A 2 | C26: 122402202 | D26: Odkopávky a prekopávky pre cesty od 100 m3 do 1000 m3 v hornine triedy 5 | E26: m3 | F26: 726.1 | I26: =ROUND(F26*(G26+H26),2) -> 0 | J26: =ROUND(F26*(N26),2) -> 0 | K26: =ROUND(F26*(O26),2) -> 0 | L26: =ROUND(F26*(G26),2) -> 0 | M26: =ROUND(F26*(H26),2) -> 0 | N26: 0 | P26: 0.00589 | R26: 0.00589 | S26: =ROUND(F26*(P26),3) -> 4.277 | V26: =ROUND(F26*(X26),3) -> 0 | X26: 0 | Z26: 0
C27: 1 | D27: ZEMNÉ PRÁCE | G27: =ROUND((SUM(L10:L26))/1,2) -> 0 | H27: =ROUND((SUM(M10:M26))/1,2) -> 0 | I27: =ROUND((SUM(I10:I26))/1,2) -> 0 | L27: =ROUND((SUM(L10:L26))/1,2) -> 0 | M27: =ROUND((SUM(M10:M26))/1,2) -> 0 | S27: =ROUND((SUM(S10:S26))/1,2) -> 4.28 | V27: =ROUND((SUM(V10:V26))/1,2) -> 0
C29: 4 | D29: VODOROVNÉ KONŠTRUKCIE
A30: 17 | B30: 321/A 1 | C30: 462511270 | D30: Záhadzka z lomového kameňa s hmotnosťou jednotlivo do 200 kg bez preštrkovania z terénu | E30: m3 | F30: 36 | I30: =ROUND(F30*(G30+H30),2) -> 0 | J30: =ROUND(F30*(N30),2) -> 0 | K30: =ROUND(F30*(O30),2) -> 0 | L30: =ROUND(F30*(G30),2) -> 0 | M30: =ROUND(F30*(H30),2) -> 0 | N30: 0 | P30: 2.08416 | R30: 2.08416 | S30: =ROUND(F30*(P30),3) -> 75.03 | V30: =ROUND(F30*(X30),3) -> 0 | X30: 0 | Z30: 0
C31: 4 | D31: VODOROVNÉ KONŠTRUKCIE | G31: =ROUND((SUM(L29:L30))/1,2) -> 0 | H31: =ROUND((SUM(M29:M30))/1,2) -> 0 | I31: =ROUND((SUM(I29:I30))/1,2) -> 0 | L31: =ROUND((SUM(L29:L30))/1,2) -> 0 | M31: =ROUND((SUM(M29:M30))/1,2) -> 0 | S31: =ROUND((SUM(S29:S30))/1,2) -> 75.03 | V31: =ROUND((SUM(V29:V30))/1,2) -> 0
C33: 99 | D33: PRESUNY HMÔT
A34: 18 | B34: 221/A 1 | C34: 998222011 | D34: Presun hmôt pre pozemné komunikácie s krytom z kameniva akejkoľvek dĺžky objektu | E34: t | F34: 106.37483 | I34: =ROUND(F34*(G34+H34),2) -> 0 | J34: =ROUND(F34*(N34),2) -> 0 | K34: =ROUND(F34*(O34),2) -> 0 | L34: =ROUND(F34*(G34),2) -> 0 | M34: =ROUND(F34*(H34),2) -> 0 | N34: 0 | P34: 0 | R34: 0 | S34: =ROUND(F34*(P34),3) -> 0 | V34: =ROUND(F34*(X34),3) -> 0 | X34: 0 | Z34: 0
C35: 99 | D35: PRESUNY HMÔT | G35: =ROUND((SUM(L33:L34))/1,2) -> 0 | H35: =ROUND((SUM(M33:M34))/1,2) -> 0 | I35: =ROUND((SUM(I33:I34))/1,2) -> 0 | L35: =ROUND((SUM(L33:L34))/1,2) -> 0 | M35: =ROUND((SUM(M33:M34))/1,2) -> 0 | S35: =ROUND((SUM(S33:S34))/1,2) -> 0 | V35: =ROUND((SUM(V33:V34))/1,2) -> 0
D37: Práce HSV | G37: =ROUND((SUM(L9:L36))/2,2) -> 0 | H37: =ROUND((SUM(M9:M36))/2,2) -> 0 | I37: =ROUND((SUM(I9:I36))/2,2) -> 0 | L37: =ROUND((SUM(L9:L36))/2,2) -> 0 | M37: =ROUND((SUM(M9:M36))/2,2) -> 0 | S37: =ROUND((SUM(S9:S36))/2,2) -> 79.31 | V37: =ROUND((SUM(V9:V36))/2,2) -> 0
D38: Celkom v EUR | G38: =ROUND((SUM(L9:L37))/3,2) -> 0 | H38: =ROUND((SUM(M9:M37))/3,2) -> 0 | I38: =ROUND((SUM(I9:I37))/3,2) -> 0 | K38: =ROUND((SUM(K9:K37))/3,2) -> 0 | L38: =ROUND((SUM(L9:L37))/3,2) -> 0 | M38: =ROUND((SUM(M9:M37))/3,2) -> 0 | S38: =ROUND((SUM(S9:S37))/3,2) -> 79.31 | V38: =ROUND((SUM(V9:V37))/3,2) -> 0 | Y38: =(SUM(Y9:Y37)) -> 0 | Z38: =(SUM(Z9:Z37)) -> 0
