Workbook

Sheet Rekapitulácia stavby
A1: Export Komplet | BA1: 2.0 | BT1: False | BU1: False | BV1: {708feca2-4dfd-481c-b9ee-caa601e5fbe7}
AR2: >> skryté stĺpce << | BS2: 0,01 | BT2: 23
BS3: 0,01 | BT3: 23
D4: REKAPITULÁCIA STAVBY | AS4: v --- nižšie sa nachádzajú doplnkové a pomocné údaje k zostavám --- v | BE4: Návod na vyplnenie | BS4: 0,001
D5: Kód: | BE5: Meniť je možné iba bunky so žltým podfarbením!_x000D_ _x000D_ 1) na prvom liste Rekapitulácie stavby vyplňte v zostave_x000D_ _x000D_ a) Rekapitulácia stavby_x000D_ - údaje o Zhotoviteľovi_x000D_ (prenesú sa do ostatných zostáv aj v iných listoch)_x000D_ _x000D_ b) Rekapitulácia objektov stavby_x000D_ - potrebné Ostatné náklady_x000D_ _x000D_ 2) na vybraných listoch vyplňte v zostave_x000D_ _x000D_ a) Krycí list_x000D_ - údaje o Zhotoviteľovi, pokiaľ sa líšia od údajov o Zhotoviteľovi na Rekapitulácii stavby_x000D_ (údaje se prenesú do ostatných zostav v danom liste)_x000D_ _x000D_ b) Rekapitulácia rozpočtu_x000D_ - potrebné Ostatné náklady_x000D_ _x000D_ c) Celkové náklady za stavbu_x000D_ - ceny na položkách_x000D_ - množstvo, pokiaľ má žlté podfarbenie_x000D_ - a v prípade potreby poznámku (tá je v skrytom stĺpci) | BS5: 0,01
D6: Stavba: | K6: Prístupová cesta k MES Malá Lodina - oprava | BS6: 0,01
D7: JKSO: | AK7: ČS: | BS7: 0,01
D8: Miesto: | K8: Malá Lodina | AK8: Dátum: | AN8: Vyplň údaj | BS8: 0,01
BS9: 0,01
D10: Objednávateľ: | AK10: IČO: | BS10: 0,01
AK11: IČ DPH: | BS11: 0,01
BS12: 0,01
D13: Zhotoviteľ: | AK13: IČO: | AN13: Vyplň údaj | BS13: 0,01
E14: Vyplň údaj | AK14: IČ DPH: | AN14: Vyplň údaj | BS14: 0,01
BS15: False
D16: Projektant: | AK16: IČO: | BS16: False
AK17: IČ DPH: | BS17: True
BS18: 0,01
D19: Spracovateľ: | AK19: IČO: | BS19: 0,01
AK20: IČ DPH: | BS20: True
D22: Poznámka:
D26: Cena bez DPH | AK26: =ROUND(AG94,2) -> 0
L28: Sadzba dane | W28: Základ dane | AK28: Výška dane
D29: DPH | F29: základná | L29: 0.23 | W29: =ROUND(AZ94, 2) -> 0 | AK29: =ROUND(AV94, 2) -> 0
F30: znížená | L30: 0.23 | W30: =ROUND(BA94, 2) -> 0 | AK30: =ROUND(AW94, 2) -> 0
F31: zákl. prenesená | L31: 0.23 | W31: =ROUND(BB94, 2) -> 0 | AK31: 0
F32: zníž. prenesená | L32: 0.23 | W32: =ROUND(BC94, 2) -> 0 | AK32: 0
F33: nulová | L33: 0 | W33: =ROUND(BD94, 2) -> 0 | AK33: 0
D35: Cena s DPH | T35: v | X35: EUR | AK35: =SUM(AK26:AK33) -> 0
D49: Projektant | AH49: Spracovateľ
D60: Dátum a podpis: | V60: Pečiatka | AH60: Dátum a podpis: | AM60: Pečiatka
D64: Objednávateľ | AH64: Zhotoviteľ
D75: Dátum a podpis: | V75: Pečiatka | AH75: Dátum a podpis: | AM75: Pečiatka
C82: REKAPITULÁCIA OBJEKTOV STAVBY
C84: Kód: | L84: =K5 -> 0
C85: Stavba: | L85: Prístupová cesta k MES Malá Lodina - oprava
C87: Miesto: | L87: =IF(K8="","",K8) -> Malá Lodina | AI87: Dátum: | AM87: =IF(AN8= "","",AN8) -> Vyplň údaj
C89: Objednávateľ: | L89: =IF(E11= "","",E11) | AI89: Projektant: | AM89: =IF(E17="","",E17) | AS89: Informatívne údaje z listov zákaziek
C90: Zhotoviteľ: | L90: =IF(E14= "Vyplň údaj","",E14) | AI90: Spracovateľ: | AM90: =IF(E20="","",E20)
C92: Kód | I92: Popis | AG92: Cena bez DPH [EUR] | AN92: Cena s DPH [EUR] | AQ92: Typ | AS92: z toho Ostat._x000D_ náklady [EUR] | AT92: DPH [EUR] | AU92: Normohodiny [h] | AV92: DPH základná [EUR] | AW92: DPH znížená [EUR] | AX92: DPH základná prenesená_x000D_ [EUR] | AY92: DPH znížená prenesená_x000D_ [EUR] | AZ92: Základňa_x000D_ DPH základná | BA92: Základňa_x000D_ DPH znížená | BB92: Základňa_x000D_ DPH zákl. prenesená | BC92: Základňa_x000D_ DPH zníž. prenesená | BD92: Základňa_x000D_ DPH nulová
C94: Náklady z rozpočtov | AG94: =ROUND(AG95,2) -> 0 | AN94: =SUM(AG94,AT94) -> 0 | AS94: =ROUND(AS95,2) -> 0 | AT94: =ROUND(SUM(AV94:AW94),2) -> 0 | AU94: =ROUND(AU95,5) -> 0 | AV94: =ROUND(AZ94*L29,2) -> 0 | AW94: =ROUND(BA94*L30,2) -> 0 | AX94: =ROUND(BB94*L29,2) -> 0 | AY94: =ROUND(BC94*L30,2) -> 0 | AZ94: =ROUND(AZ95,2) -> 0 | BA94: =ROUND(BA95,2) -> 0 | BB94: =ROUND(BB95,2) -> 0 | BC94: =ROUND(BC95,2) -> 0 | BD94: =ROUND(BD95,2) -> 0 | BS94: D | BT94: 0 | BV94: IMPORT | BW94: {708feca2-4dfd-481c-b9ee-caa601e5fbe7} | BX94: {00000000-0000-0000-0000-000000000000}
A95: / | J95: Prístupová cesta k MES Malá Lodina - oprava | AG95: ='MES Malá Lodina - oprava'!J28 -> 0 | AN95: =SUM(AG95,AT95) -> 0 | AQ95: STA | AS95: 0 | AT95: =ROUND(SUM(AV95:AW95),2) -> 0 | AU95: ='MES Malá Lodina - oprava'!P116 -> 0 | AV95: ='MES Malá Lodina - oprava'!J31 -> 0 | AW95: ='MES Malá Lodina - oprava'!J32 -> 0 | AX95: ='MES Malá Lodina - oprava'!J33 -> 0 | AY95: ='MES Malá Lodina - oprava'!J34 -> 0 | AZ95: ='MES Malá Lodina - oprava'!F31 -> 0 | BA95: ='MES Malá Lodina - oprava'!F32 -> 0 | BB95: ='MES Malá Lodina - oprava'!F33 -> 0 | BC95: ='MES Malá Lodina - oprava'!F34 -> 0 | BD95: ='MES Malá Lodina - oprava'!F35 -> 0 | BT95: 1 | BU95: ###NOINSERT### | BV95: IMPORT | BW95: {708feca2-4dfd-481c-b9ee-caa601e5fbe7} | BX95: {00000000-0000-0000-0000-000000000000}

Sheet MES Malá Lodina - oprava
L2: >> skryté stĺpce << | AT2: {708feca2-4dfd-481c-b9ee-caa601e5fbe7}
AT3: 0
D4: KRYCÍ LIST ROZPOČTU | M4: v --- nižšie sa nachádzajú doplnkové a pomocné údaje k zostavám --- v | AT4: False
D6: Stavba:
E7: Prístupová cesta k MES Malá Lodina - oprava
D9: JKSO: | I9: ČS:
D10: Miesto: | F10: Malá Lodina | I10: Dátum: | J10: ='Rekapitulácia stavby'!AN8 -> Vyplň údaj
D12: Objednávateľ: | I12: IČO: | J12: =IF('Rekapitulácia stavby'!AN10="","",'Rekapitulácia stavby'!AN10)
E13: =IF('Rekapitulácia stavby'!E11="","",'Rekapitulácia stavby'!E11) | I13: IČ DPH: | J13: =IF('Rekapitulácia stavby'!AN11="","",'Rekapitulácia stavby'!AN11)
D15: Zhotoviteľ: | I15: IČO: | J15: ='Rekapitulácia stavby'!AN13 -> Vyplň údaj
E16: ='Rekapitulácia stavby'!E14 -> Vyplň údaj | I16: IČ DPH: | J16: ='Rekapitulácia stavby'!AN14 -> Vyplň údaj
D18: Projektant: | I18: IČO: | J18: =IF('Rekapitulácia stavby'!AN16="","",'Rekapitulácia stavby'!AN16)
E19: =IF('Rekapitulácia stavby'!E17="","",'Rekapitulácia stavby'!E17) | I19: IČ DPH: | J19: =IF('Rekapitulácia stavby'!AN17="","",'Rekapitulácia stavby'!AN17)
D21: Spracovateľ: | I21: IČO:
I22: IČ DPH:
D24: Poznámka:
D28: Cena bez DPH | J28: =ROUND(J116, 2) -> 0
F30: Základ dane | I30: Sadzba dane | J30: Výška dane
D31: DPH | E31: základná | F31: =ROUND((SUM(BE116:BE126)), 2) -> 0 | I31: 0.23 | J31: =ROUND(((SUM(BE116:BE126))*I31), 2) -> 0
E32: znížená | F32: =ROUND((SUM(BF116:BF126)), 2) -> 0 | I32: 0.23 | J32: =ROUND(((SUM(BF116:BF126))*I32), 2) -> 0
E33: zákl. prenesená | F33: =ROUND((SUM(BG116:BG126)), 2) -> 0 | I33: 0.23 | J33: =0 -> 0
E34: zníž. prenesená | F34: =ROUND((SUM(BH116:BH126)), 2) -> 0 | I34: 0.23 | J34: =0 -> 0
E35: nulová | F35: =ROUND((SUM(BI116:BI126)), 2) -> 0 | I35: 0 | J35: =0 -> 0
D37: Cena s DPH | G37: v | H37: EUR | J37: =SUM(J28:J35) -> 0
D50: Projektant | G50: Spracovateľ
D61: Dátum a podpis: | F61: Pečiatka | G61: Dátum a podpis: | J61: Pečiatka
D65: Objednávateľ | G65: Zhotoviteľ
D76: Dátum a podpis: | F76: Pečiatka | G76: Dátum a podpis: | J76: Pečiatka
C82: REKAPITULÁCIA ROZPOČTU
C84: Stavba:
E85: =E7 -> Prístupová cesta k MES Malá Lodina - oprava
C87: Miesto: | F87: =F10 -> Malá Lodina | I87: Dátum: | J87: =IF(J10="","",J10) -> Vyplň údaj
C89: Objednávateľ: | F89: =E13 | I89: Projektant: | J89: =E19
C90: Zhotoviteľ: | F90: =IF(E16="","",E16) -> Vyplň údaj | I90: Spracovateľ: | J90: =E22 -> 0
C92: Kód dielu - Popis | J92: Cena celkom [EUR]
C94: Náklady z rozpočtu | J94: =J116 -> 0 | AU94: -1
D95: HSV - Práce a dodávky HSV | J95: =J117 -> 0
D96: 5 - Komunikácie | J96: =J118 -> 0
D97: 9 - Ostatné konštrukcie a práce-búranie | J97: =J122 -> 0
D98: 99 - Presun hmôt HSV | J98: =J125 -> 0
C105: ROZPOČET
C107: Stavba:
E108: =E7 -> Prístupová cesta k MES Malá Lodina - oprava
C110: Miesto: | F110: =F10 -> Malá Lodina | I110: Dátum: | J110: =IF(J10="","",J10) -> Vyplň údaj
C112: Objednávateľ: | F112: =E13 | I112: Projektant: | J112: =E19
C113: Zhotoviteľ: | F113: =IF(E16="","",E16) -> Vyplň údaj | I113: Spracovateľ: | J113: =E22 -> 0
C115: PČ | D115: Typ | E115: Kód | F115: Popis | G115: MJ | H115: Množstvo | I115: J.cena [EUR] | J115: Cena celkom [EUR] | K115: Cenová sústava | N115: DPH | O115: J. Nh [h] | P115: Nh celkom [h] | Q115: J. hmotnosť [t] | R115: Hmotnosť celkom [t] | S115: J. suť [t] | T115: Suť Celkom [t]
C116: Náklady z rozpočtu | J116: =BK116 -> 0 | P116: =P117 -> 0 | R116: =R117 -> 464.08479 | T116: =T117 -> 0 | AT116: D | AU116: -1 | BK116: =BK117 -> 0
D117: D | E117: HSV | F117: Práce a dodávky HSV | J117: =BK117 -> 0 | P117: =P118+P122+P125 -> 0 | R117: =R118+R122+R125 -> 464.08479 | T117: =T118+T122+T125 -> 0 | AR117: 1 | AT117: D | AU117: 0 | AY117: ROZPOCET | BK117: =BK118+BK122+BK125 -> 0
D118: D | E118: 5 | F118: Komunikácie | J118: =BK118 -> 0 | P118: =SUM(P119:P121) -> 0 | R118: =SUM(R119:R121) -> 464.08479 | T118: =SUM(T119:T121) -> 0 | AR118: 1 | AT118: D | AU118: 1 | AY118: ROZPOCET | BK118: =SUM(BK119:BK121) -> 0
C119: 1 | D119: K | E119: 572754112.S | F119: Vyrovnanie povrchu doterajších krytov asfaltovým betónom AC hr. nad 40 do 60 mm | G119: m2 | H119: 154.2 | J119: =ROUND(I119*H119,2) -> 0 | N119: znížená | P119: =O119*H119 -> 0 | Q119: 0.1562 | R119: =Q119*H119 -> 24.08604 | S119: 0 | T119: =S119*H119 -> 0 | AR119: 4 | AT119: K | AU119: 2 | AY119: ROZPOCET | BE119: =IF(N119="základná",J119,0) -> 0 | BF119: =IF(N119="znížená",J119,0) -> 0 | BG119: =IF(N119="zákl. prenesená",J119,0) -> 0 | BH119: =IF(N119="zníž. prenesená",J119,0) -> 0 | BI119: =IF(N119="nulová",J119,0) -> 0 | BJ119: 2 | BK119: =ROUND(I119*H119,2) -> 0 | BL119: 4 | BM119: 1417460009
C120: 2 | D120: K | E120: 573231109.S | F120: Postrek asfaltový spojovací bez posypu kamenivom z cestnej emulzie v množstve 0,70 kg/m2 | G120: m2 | H120: 3375 | J120: =ROUND(I120*H120,2) -> 0 | N120: znížená | P120: =O120*H120 -> 0 | Q120: 0.00071 | R120: =Q120*H120 -> 2.39625 | S120: 0 | T120: =S120*H120 -> 0 | AR120: 4 | AT120: K | AU120: 2 | AY120: ROZPOCET | BE120: =IF(N120="základná",J120,0) -> 0 | BF120: =IF(N120="znížená",J120,0) -> 0 | BG120: =IF(N120="zákl. prenesená",J120,0) -> 0 | BH120: =IF(N120="zníž. prenesená",J120,0) -> 0 | BI120: =IF(N120="nulová",J120,0) -> 0 | BJ120: 2 | BK120: =ROUND(I120*H120,2) -> 0 | BL120: 4 | BM120: -2050796475
C121: 3 | D121: K | E121: 577144241.S | F121: Asfaltový betón vrstva obrusná AC 11 O v pruhu š. nad 3 m z nemodifik. asfaltu tr. II, po zhutnení hr. 50 mm | G121: m2 | H121: 3375 | J121: =ROUND(I121*H121,2) -> 0 | N121: znížená | P121: =O121*H121 -> 0 | Q121: 0.12966 | R121: =Q121*H121 -> 437.6025 | S121: 0 | T121: =S121*H121 -> 0 | AR121: 4 | AT121: K | AU121: 2 | AY121: ROZPOCET | BE121: =IF(N121="základná",J121,0) -> 0 | BF121: =IF(N121="znížená",J121,0) -> 0 | BG121: =IF(N121="zákl. prenesená",J121,0) -> 0 | BH121: =IF(N121="zníž. prenesená",J121,0) -> 0 | BI121: =IF(N121="nulová",J121,0) -> 0 | BJ121: 2 | BK121: =ROUND(I121*H121,2) -> 0 | BL121: 4 | BM121: -214410551
D122: D | E122: 9 | F122: Ostatné konštrukcie a práce-búranie | J122: =BK122 -> 0 | P122: =SUM(P123:P124) -> 0 | R122: =SUM(R123:R124) -> 0 | T122: =SUM(T123:T124) -> 0 | AR122: 1 | AT122: D | AU122: 1 | AY122: ROZPOCET | BK122: =SUM(BK123:BK124) -> 0
C123: 4 | D123: K | E123: 919735111.S | F123: Rezanie existujúceho asfaltového krytu alebo podkladu hĺbky do 50 mm | G123: m | H123: 9 | J123: =ROUND(I123*H123,2) -> 0 | N123: znížená | P123: =O123*H123 -> 0 | Q123: 0 | R123: =Q123*H123 -> 0 | S123: 0 | T123: =S123*H123 -> 0 | AR123: 4 | AT123: K | AU123: 2 | AY123: ROZPOCET | BE123: =IF(N123="základná",J123,0) -> 0 | BF123: =IF(N123="znížená",J123,0) -> 0 | BG123: =IF(N123="zákl. prenesená",J123,0) -> 0 | BH123: =IF(N123="zníž. prenesená",J123,0) -> 0 | BI123: =IF(N123="nulová",J123,0) -> 0 | BJ123: 2 | BK123: =ROUND(I123*H123,2) -> 0 | BL123: 4 | BM123: -1308329044
C124: 5 | D124: K | E124: 938909315.S | F124: Odstránenie blata, prachu alebo hlineného nánosu, z povrchu podkladu alebo krytu bet. alebo asfalt. zametacou kefou | G124: m2 | H124: 3375 | J124: =ROUND(I124*H124,2) -> 0 | N124: znížená | P124: =O124*H124 -> 0 | Q124: 0 | R124: =Q124*H124 -> 0 | S124: 0 | T124: =S124*H124 -> 0 | AR124: 4 | AT124: K | AU124: 2 | AY124: ROZPOCET | BE124: =IF(N124="základná",J124,0) -> 0 | BF124: =IF(N124="znížená",J124,0) -> 0 | BG124: =IF(N124="zákl. prenesená",J124,0) -> 0 | BH124: =IF(N124="zníž. prenesená",J124,0) -> 0 | BI124: =IF(N124="nulová",J124,0) -> 0 | BJ124: 2 | BK124: =ROUND(I124*H124,2) -> 0 | BL124: 4 | BM124: 1582808445
D125: D | E125: 99 | F125: Presun hmôt HSV | J125: =BK125 -> 0 | P125: =P126 -> 0 | R125: =R126 -> 0 | T125: =T126 -> 0 | AR125: 1 | AT125: D | AU125: 1 | AY125: ROZPOCET | BK125: =BK126 -> 0
C126: 6 | D126: K | E126: 998225111.S | F126: Presun hmôt pre pozemnú komunikáciu a letisko s krytom asfaltovým akejkoľvek dĺžky objektu | G126: t | H126: 464.085 | J126: =ROUND(I126*H126,2) -> 0 | N126: znížená | P126: =O126*H126 -> 0 | Q126: 0 | R126: =Q126*H126 -> 0 | S126: 0 | T126: =S126*H126 -> 0 | AR126: 4 | AT126: K | AU126: 2 | AY126: ROZPOCET | BE126: =IF(N126="základná",J126,0) -> 0 | BF126: =IF(N126="znížená",J126,0) -> 0 | BG126: =IF(N126="zákl. prenesená",J126,0) -> 0 | BH126: =IF(N126="zníž. prenesená",J126,0) -> 0 | BI126: =IF(N126="nulová",J126,0) -> 0 | BJ126: 2 | BK126: =ROUND(I126*H126,2) -> 0 | BL126: 4 | BM126: 685273400
